BEGIN:VCALENDAR
VERSION:2.0
PRODID:-//Burg Falkenberg - ECPv6.15.20//NONSGML v1.0//EN
CALSCALE:GREGORIAN
METHOD:PUBLISH
X-WR-CALNAME:Burg Falkenberg
X-ORIGINAL-URL:https://www.burg-falkenberg.bayern
X-WR-CALDESC:Veranstaltungen für Burg Falkenberg
REFRESH-INTERVAL;VALUE=DURATION:PT1H
X-Robots-Tag:noindex
X-PUBLISHED-TTL:PT1H
BEGIN:VTIMEZONE
TZID:Europe/Berlin
BEGIN:DAYLIGHT
TZOFFSETFROM:+0100
TZOFFSETTO:+0200
TZNAME:CEST
DTSTART:20250330T010000
END:DAYLIGHT
BEGIN:STANDARD
TZOFFSETFROM:+0200
TZOFFSETTO:+0100
TZNAME:CET
DTSTART:20251026T010000
END:STANDARD
BEGIN:DAYLIGHT
TZOFFSETFROM:+0100
TZOFFSETTO:+0200
TZNAME:CEST
DTSTART:20260329T010000
END:DAYLIGHT
BEGIN:STANDARD
TZOFFSETFROM:+0200
TZOFFSETTO:+0100
TZNAME:CET
DTSTART:20261025T010000
END:STANDARD
BEGIN:DAYLIGHT
TZOFFSETFROM:+0100
TZOFFSETTO:+0200
TZNAME:CEST
DTSTART:20270328T010000
END:DAYLIGHT
BEGIN:STANDARD
TZOFFSETFROM:+0200
TZOFFSETTO:+0100
TZNAME:CET
DTSTART:20271031T010000
END:STANDARD
END:VTIMEZONE
BEGIN:VEVENT
DTSTART;TZID=Europe/Berlin:20261122T090000
DTEND;TZID=Europe/Berlin:20261122T130000
DTSTAMP:20260423T173752
CREATED:20251126T081951Z
LAST-MODIFIED:20251126T081951Z
UID:7195-1795338000-1795352400@www.burg-falkenberg.bayern
SUMMARY:Winterbrunch auf der Burg Falkenberg
DESCRIPTION:✨ Frühstück\, Brunch & schöne Momente ✨ \nWas gibt’s Besseres\, als das Wochenende mit gutem Essen und lieben Menschen zu genießen? 🥐☕ \nUnser Brunch ist der perfekte Ort zum Verweilen\, Genießen und einfach glücklich sein. \nWir freuen uns auf euch! 🤗#BrunchLiebe #GemeinsameZeit #FrühstücksGlück
URL:https://www.burg-falkenberg.bayern/veranstaltung/winterbrunch-auf-der-burg-falkenberg/
LOCATION:Burg Falkenberg\, Falkenberg\, Deutschland
ATTACH;FMTTYPE=image/png:https://www.burg-falkenberg.bayern/wp-content/uploads/2025/11/Winterbrunch-1.png
END:VEVENT
END:VCALENDAR