BEGIN:VCALENDAR
VERSION:2.0
PRODID:-//Burg Falkenberg - ECPv6.15.17.1//NONSGML v1.0//EN
CALSCALE:GREGORIAN
METHOD:PUBLISH
X-WR-CALNAME:Burg Falkenberg
X-ORIGINAL-URL:https://www.burg-falkenberg.bayern
X-WR-CALDESC:Veranstaltungen für Burg Falkenberg
REFRESH-INTERVAL;VALUE=DURATION:PT1H
X-Robots-Tag:noindex
X-PUBLISHED-TTL:PT1H
BEGIN:VTIMEZONE
TZID:Europe/Berlin
BEGIN:DAYLIGHT
TZOFFSETFROM:+0100
TZOFFSETTO:+0200
TZNAME:CEST
DTSTART:20250330T010000
END:DAYLIGHT
BEGIN:STANDARD
TZOFFSETFROM:+0200
TZOFFSETTO:+0100
TZNAME:CET
DTSTART:20251026T010000
END:STANDARD
BEGIN:DAYLIGHT
TZOFFSETFROM:+0100
TZOFFSETTO:+0200
TZNAME:CEST
DTSTART:20260329T010000
END:DAYLIGHT
BEGIN:STANDARD
TZOFFSETFROM:+0200
TZOFFSETTO:+0100
TZNAME:CET
DTSTART:20261025T010000
END:STANDARD
BEGIN:DAYLIGHT
TZOFFSETFROM:+0100
TZOFFSETTO:+0200
TZNAME:CEST
DTSTART:20270328T010000
END:DAYLIGHT
BEGIN:STANDARD
TZOFFSETFROM:+0200
TZOFFSETTO:+0100
TZNAME:CET
DTSTART:20271031T010000
END:STANDARD
END:VTIMEZONE
BEGIN:VEVENT
DTSTART;TZID=Europe/Berlin:20260503T080000
DTEND;TZID=Europe/Berlin:20260503T170000
DTSTAMP:20260421T123437
CREATED:20260316T082857Z
LAST-MODIFIED:20260316T082857Z
UID:7378-1777795200-1777827600@www.burg-falkenberg.bayern
SUMMARY:Eröffnung Biergartensaison
DESCRIPTION:Biergarten im Burghof der Burg Falkenberg 🍻 \nMit dem Saisonstart am 3. Mai öffnet der Biergarten im Burghof der Burg Falkenberg wieder seine Tore. Von 13:00 bis 18:00 Uhr können Besucher die besondere Atmosphäre der historischen Burganlage genießen. \nVon Mai bis einschließlich September ist der Biergarten jeden Sonntag geöffnet. An jedem ersten Sonntag im Monat sorgt zusätzlich musikalische Unterhaltung für eine besondere Stimmung. Freuen Sie sich auf gemütliche Stunden mit regionalen Getränken\, kleinen Speisen und einem einzigartigen Ausblick.
URL:https://www.burg-falkenberg.bayern/veranstaltung/eroeffnung-biergartensaison/
LOCATION:Burghof\, Burg 1\, Falkenberg\, Bayern\, 95685\, Deutschland
ATTACH;FMTTYPE=image/jpeg:https://www.burg-falkenberg.bayern/wp-content/uploads/2026/03/INSTA-Biergarten.jpg
ORGANIZER;CN="Forum Falkenberg - Freunde der Burg e.V.":MAILTO:teresa.wuerth@burg-falkenberg.bayern
END:VEVENT
BEGIN:VEVENT
DTSTART;TZID=Europe/Berlin:20260516T190000
DTEND;TZID=Europe/Berlin:20260516T213000
DTSTAMP:20260421T123437
CREATED:20250811T091813Z
LAST-MODIFIED:20260316T080535Z
UID:6971-1778958000-1778967000@www.burg-falkenberg.bayern
SUMMARY:Barbari Bavarii - D' Mama houd g'sagt\, des is lustig!
DESCRIPTION:Die Veranstaltung wurde auf den 16.05.2026 verschoben. \nTickets erhalten Sie unter OkTicket
URL:https://www.burg-falkenberg.bayern/veranstaltung/barbari-bavari-d-mama-houd-gsagt-des-is-lustig/
LOCATION:Bayern
ATTACH;FMTTYPE=image/jpeg:https://www.burg-falkenberg.bayern/wp-content/uploads/2026/03/AUSVERKAUFT-2.jpg
END:VEVENT
BEGIN:VEVENT
DTSTART;TZID=Europe/Berlin:20260517T143000
DTEND;TZID=Europe/Berlin:20260517T143000
DTSTAMP:20260421T123437
CREATED:20260122T141121Z
LAST-MODIFIED:20260122T141121Z
UID:7265-1779028200-1779028200@www.burg-falkenberg.bayern
SUMMARY:Hermann's Kasperltheater "Die verzauberte Prinzessin"
DESCRIPTION:Prinzessin Tausendschön liegt seit drei Tagen mit offenen Augen im Bett und schläft. Kein Arzt kann helfen. Kasperl versucht mit Hilfe der Kinder der Prinzessin zu helfen. \nBis jedoch der Kasperl die Prinzessin erlösen kann\, muss er noch viele Abenteuer mit dem Zauberer\, Räuber und der Hexe bestehen.
URL:https://www.burg-falkenberg.bayern/veranstaltung/hermanns-kasperltheater-die-verzauberte-prinzessin/
LOCATION:Bayern
ATTACH;FMTTYPE=application/pdf:https://www.burg-falkenberg.bayern/wp-content/uploads/2026/01/DIE_VERZAUBERTE_PRINZESSIN_DIN-A3_PLAKAT_K-1.pdf
END:VEVENT
END:VCALENDAR