BEGIN:VCALENDAR
VERSION:2.0
PRODID:-//Burg Falkenberg - ECPv6.15.20//NONSGML v1.0//EN
CALSCALE:GREGORIAN
METHOD:PUBLISH
X-ORIGINAL-URL:https://www.burg-falkenberg.bayern
X-WR-CALDESC:Veranstaltungen für Burg Falkenberg
REFRESH-INTERVAL;VALUE=DURATION:PT1H
X-Robots-Tag:noindex
X-PUBLISHED-TTL:PT1H
BEGIN:VTIMEZONE
TZID:Europe/Berlin
BEGIN:DAYLIGHT
TZOFFSETFROM:+0100
TZOFFSETTO:+0200
TZNAME:CEST
DTSTART:20170326T010000
END:DAYLIGHT
BEGIN:STANDARD
TZOFFSETFROM:+0200
TZOFFSETTO:+0100
TZNAME:CET
DTSTART:20171029T010000
END:STANDARD
BEGIN:DAYLIGHT
TZOFFSETFROM:+0100
TZOFFSETTO:+0200
TZNAME:CEST
DTSTART:20180325T010000
END:DAYLIGHT
BEGIN:STANDARD
TZOFFSETFROM:+0200
TZOFFSETTO:+0100
TZNAME:CET
DTSTART:20181028T010000
END:STANDARD
BEGIN:DAYLIGHT
TZOFFSETFROM:+0100
TZOFFSETTO:+0200
TZNAME:CEST
DTSTART:20190331T010000
END:DAYLIGHT
BEGIN:STANDARD
TZOFFSETFROM:+0200
TZOFFSETTO:+0100
TZNAME:CET
DTSTART:20191027T010000
END:STANDARD
END:VTIMEZONE
BEGIN:VEVENT
DTSTART;TZID=Europe/Berlin:20180608T200000
DTEND;TZID=Europe/Berlin:20180608T200000
DTSTAMP:20260425T141737
CREATED:20171208T095057Z
LAST-MODIFIED:20171208T095057Z
UID:3558-1528488000-1528488000@www.burg-falkenberg.bayern
SUMMARY:Tango mit Leidenschaft im Blut am "Monte Halcon"
DESCRIPTION:
URL:https://www.burg-falkenberg.bayern/veranstaltung/tango-mit-leidenschaft-im-blut-am-monte-halcon/
LOCATION:Bayern
END:VEVENT
BEGIN:VEVENT
DTSTART;TZID=Europe/Berlin:20180613T170000
DTEND;TZID=Europe/Berlin:20180613T170000
DTSTAMP:20260425T141737
CREATED:20171208T095220Z
LAST-MODIFIED:20171208T095402Z
UID:3559-1528909200-1528909200@www.burg-falkenberg.bayern
SUMMARY:Erwachsene Kreismusikschüler präsentieren sich
DESCRIPTION:Infos siehe Tagespresse
URL:https://www.burg-falkenberg.bayern/veranstaltung/erwachsene-kreismusikschueler-praesentieren-sich/
LOCATION:Bayern
END:VEVENT
BEGIN:VEVENT
DTSTART;TZID=Europe/Berlin:20180622T200000
DTEND;TZID=Europe/Berlin:20180622T200000
DTSTAMP:20260425T141737
CREATED:20171208T091955Z
LAST-MODIFIED:20190114T113514Z
UID:3544-1529697600-1529697600@www.burg-falkenberg.bayern
SUMMARY:Nachholkonzert: Ensemble Arirang - "Auf Fremden Pfaden"
DESCRIPTION:Das Ensemble „Arirang“\, Benno Engelhart und viele mehr beschreiten neue Wege fernab des normalen klassischen Musizierens und interpretieren bekannte Werke in einer neuen Form.
URL:https://www.burg-falkenberg.bayern/veranstaltung/ensemble-arirang-auf-fremden-pfaden/
LOCATION:Kapitalsaal Burg Falkenberg\, Burg Falkenberg\, Deutschland
END:VEVENT
END:VCALENDAR