BEGIN:VCALENDAR
VERSION:2.0
PRODID:-//Burg Falkenberg - ECPv6.15.20//NONSGML v1.0//EN
CALSCALE:GREGORIAN
METHOD:PUBLISH
X-ORIGINAL-URL:https://www.burg-falkenberg.bayern
X-WR-CALDESC:Veranstaltungen für Burg Falkenberg
REFRESH-INTERVAL;VALUE=DURATION:PT1H
X-Robots-Tag:noindex
X-PUBLISHED-TTL:PT1H
BEGIN:VTIMEZONE
TZID:Europe/Berlin
BEGIN:DAYLIGHT
TZOFFSETFROM:+0100
TZOFFSETTO:+0200
TZNAME:CEST
DTSTART:20170326T010000
END:DAYLIGHT
BEGIN:STANDARD
TZOFFSETFROM:+0200
TZOFFSETTO:+0100
TZNAME:CET
DTSTART:20171029T010000
END:STANDARD
BEGIN:DAYLIGHT
TZOFFSETFROM:+0100
TZOFFSETTO:+0200
TZNAME:CEST
DTSTART:20180325T010000
END:DAYLIGHT
BEGIN:STANDARD
TZOFFSETFROM:+0200
TZOFFSETTO:+0100
TZNAME:CET
DTSTART:20181028T010000
END:STANDARD
BEGIN:DAYLIGHT
TZOFFSETFROM:+0100
TZOFFSETTO:+0200
TZNAME:CEST
DTSTART:20190331T010000
END:DAYLIGHT
BEGIN:STANDARD
TZOFFSETFROM:+0200
TZOFFSETTO:+0100
TZNAME:CET
DTSTART:20191027T010000
END:STANDARD
END:VTIMEZONE
BEGIN:VEVENT
DTSTART;TZID=Europe/Berlin:20180203T170000
DTEND;TZID=Europe/Berlin:20180203T230000
DTSTAMP:20260425T212223
CREATED:20171012T064705Z
LAST-MODIFIED:20171113T105926Z
UID:3486-1517677200-1517698800@www.burg-falkenberg.bayern
SUMMARY:Dritter Burgball auf Burg Falkenberg am 02.Februar
DESCRIPTION:
URL:https://www.burg-falkenberg.bayern/veranstaltung/dritter-burgball-auf-burg-falkenberg-am-02-februar/
LOCATION:Bayern
END:VEVENT
BEGIN:VEVENT
DTSTART;TZID=Europe/Berlin:20180217T193000
DTEND;TZID=Europe/Berlin:20180217T193000
DTSTAMP:20260425T212223
CREATED:20171208T093134Z
LAST-MODIFIED:20171208T093134Z
UID:3546-1518895800-1518895800@www.burg-falkenberg.bayern
SUMMARY:Florian Christl & Ensemble "Inspiration"
DESCRIPTION:Der aufstrebende Amberger Komponist und Pianist Florian Christl (27) begeistert sein Publikum seit Anfang 2013 mit Liveaufführungen seiner Kompositionen
URL:https://www.burg-falkenberg.bayern/veranstaltung/florian-christl-ensemble-inspiration/
LOCATION:Kapitalsaal Burg Falkenberg
END:VEVENT
END:VCALENDAR