BEGIN:VCALENDAR
VERSION:2.0
PRODID:-//Burg Falkenberg - ECPv6.15.20//NONSGML v1.0//EN
CALSCALE:GREGORIAN
METHOD:PUBLISH
X-ORIGINAL-URL:https://www.burg-falkenberg.bayern
X-WR-CALDESC:Veranstaltungen für Burg Falkenberg
REFRESH-INTERVAL;VALUE=DURATION:PT1H
X-Robots-Tag:noindex
X-PUBLISHED-TTL:PT1H
BEGIN:VTIMEZONE
TZID:Europe/Berlin
BEGIN:DAYLIGHT
TZOFFSETFROM:+0100
TZOFFSETTO:+0200
TZNAME:CEST
DTSTART:20160327T010000
END:DAYLIGHT
BEGIN:STANDARD
TZOFFSETFROM:+0200
TZOFFSETTO:+0100
TZNAME:CET
DTSTART:20161030T010000
END:STANDARD
BEGIN:DAYLIGHT
TZOFFSETFROM:+0100
TZOFFSETTO:+0200
TZNAME:CEST
DTSTART:20170326T010000
END:DAYLIGHT
BEGIN:STANDARD
TZOFFSETFROM:+0200
TZOFFSETTO:+0100
TZNAME:CET
DTSTART:20171029T010000
END:STANDARD
BEGIN:DAYLIGHT
TZOFFSETFROM:+0100
TZOFFSETTO:+0200
TZNAME:CEST
DTSTART:20180325T010000
END:DAYLIGHT
BEGIN:STANDARD
TZOFFSETFROM:+0200
TZOFFSETTO:+0100
TZNAME:CET
DTSTART:20181028T010000
END:STANDARD
END:VTIMEZONE
BEGIN:VEVENT
DTSTART;TZID=Europe/Berlin:20171108T190000
DTEND;TZID=Europe/Berlin:20171108T220000
DTSTAMP:20260426T023521
CREATED:20171020T061901Z
LAST-MODIFIED:20240215T091414Z
UID:3490-1510167600-1510178400@www.burg-falkenberg.bayern
SUMMARY:Signs&Wonders Gratis-Konzert
DESCRIPTION:-The sound of a transformed generation- \nim Tagungszentrum der Burg Falkenberg
URL:https://www.burg-falkenberg.bayern/veranstaltung/signswonders-gratis-konzert/
LOCATION:Bayern
END:VEVENT
BEGIN:VEVENT
DTSTART;TZID=Europe/Berlin:20171110T190000
DTEND;TZID=Europe/Berlin:20171110T220000
DTSTAMP:20260426T023521
CREATED:20171012T062524Z
LAST-MODIFIED:20171012T062612Z
UID:3480-1510340400-1510351200@www.burg-falkenberg.bayern
SUMMARY:Die geheimen Funksprüche aus Berlin am 10. November
DESCRIPTION:Zum Todestag von Friedrich- Werner Graf von der Schulenburg \n„Die geheimen Funksprüche zwischen Berlin\, Flossenbürg und Falkenberg“ \n 
URL:https://www.burg-falkenberg.bayern/veranstaltung/die-geheimen-funksprueche-aus-berlin/
LOCATION:Bayern
END:VEVENT
BEGIN:VEVENT
DTSTART;TZID=Europe/Berlin:20171117T190000
DTEND;TZID=Europe/Berlin:20171117T220000
DTSTAMP:20260426T023521
CREATED:20171108T074206Z
LAST-MODIFIED:20171108T074206Z
UID:3494-1510945200-1510956000@www.burg-falkenberg.bayern
SUMMARY:Museumsnacht auf Burg Falkenberg
DESCRIPTION:musikalische Umrahmung durch die Falkenberg Combo + \nkleine Schmankerl und Getränke!
URL:https://www.burg-falkenberg.bayern/veranstaltung/museumsnacht-auf-burg-falkenberg/
LOCATION:Burg Falkenberg – Museumsnacht\, Deutschland
END:VEVENT
END:VCALENDAR